BEGIN:VCALENDAR
VERSION:2.0
PRODID:-//West Hudson Arts &amp; Theater Company - ECPv6.14.0//NONSGML v1.0//EN
CALSCALE:GREGORIAN
METHOD:PUBLISH
X-ORIGINAL-URL:https://whatconj.org
X-WR-CALDESC:Events for West Hudson Arts &amp; Theater Company
REFRESH-INTERVAL;VALUE=DURATION:PT1H
X-Robots-Tag:noindex
X-PUBLISHED-TTL:PT1H
BEGIN:VTIMEZONE
TZID:America/New_York
BEGIN:DAYLIGHT
TZOFFSETFROM:-0500
TZOFFSETTO:-0400
TZNAME:EDT
DTSTART:20210314T070000
END:DAYLIGHT
BEGIN:STANDARD
TZOFFSETFROM:-0400
TZOFFSETTO:-0500
TZNAME:EST
DTSTART:20211107T060000
END:STANDARD
END:VTIMEZONE
BEGIN:VEVENT
DTSTART;TZID=America/New_York:20211022T193000
DTEND;TZID=America/New_York:20211022T223000
DTSTAMP:20260421T142210
CREATED:20210712T164755Z
LAST-MODIFIED:20211010T192135Z
UID:10000042-1634931000-1634941800@whatconj.org
SUMMARY:ALICIA
DESCRIPTION:West Hudson Arts & Theater Company kicks off its Youth Stage series of family-friendly theatrical events with Alicia\, a bilingual adaptation of Alice’s Adventures in Wonderland written by Elaine Romero. Directed by Milagros “Milly” Gonzalez. \nThis production contains dialogue in both Spanish and English. Facemasks will be required for all audience members at all performances. \nCAST \n\nAlicia: Alejandra Castro\nMother: Ana Lujan\nCaterpillar: Allyson Olivera\nTweedle Dum: Rachel Montoro\nDoormouse: Victoria Gonzalez\nWhite Queen/Rose: Vivian Torres\nChesshire Cat: Jaivaneese Johnson\nEl Conejo Moreno/Humpty: Gabriel De Los Santos\nTweedle Dee: Matthews Segura\nMarch Hare: Max Ramos\nTiger Lily: Evan Torres\nHatter: Arianna Robaina\nBread: Marissa Costa\nTeapot: Vanessa Costa\nTable: Ana Lujan\nAlfredito: Jarrel Torres\n\nSUMMARY \nWhen Alicia is sent to her room for misbehaving\, she’s convinced that her parents have no idea who she really is. She confides in her beloved hamster Alfredito\, who suddenly escapes through a hole in the wall\, and miraculously\, Alicia is able to follow him all the way into Wonderlandia. On her journey through this topsy-turvy world she meets all sorts of fantastic characters\, negotiating strange situations before finally returning to her room a little wiser. \nAlicia is presented by special arrangement by Playscripts\, Inc. \n  \nTickets: $15 Adults | $12 Students/Seniors \nTickets may also be available at the door. \n\n    Buy Tickets\n  \nCOVID-19 Guidelines: West Hudson Arts & Theater Company follows all current state and federal health guidelines. All audience members will be required to wear masks as well as any unvaccinated cast members\, stage crew and volunteers.
URL:https://whatconj.org/event/alicia/2021-10-22/
LOCATION:East Newark Recreation Center (behind Tops Diner)\, 44 Central Avenue\, East Newark\, NJ\, 07029\, United States
CATEGORIES:Youth Stage
ATTACH;FMTTYPE=image/png:https://whatconj.org/wp-content/uploads/2021/07/ALICIA-HEADER.png
END:VEVENT
BEGIN:VEVENT
DTSTART;TZID=America/New_York:20211016T193000
DTEND;TZID=America/New_York:20211016T223000
DTSTAMP:20260421T142210
CREATED:20210712T164755Z
LAST-MODIFIED:20211010T192135Z
UID:10000041-1634412600-1634423400@whatconj.org
SUMMARY:ALICIA
DESCRIPTION:West Hudson Arts & Theater Company kicks off its Youth Stage series of family-friendly theatrical events with Alicia\, a bilingual adaptation of Alice’s Adventures in Wonderland written by Elaine Romero. Directed by Milagros “Milly” Gonzalez. \nThis production contains dialogue in both Spanish and English. Facemasks will be required for all audience members at all performances. \nCAST \n\nAlicia: Alejandra Castro\nMother: Ana Lujan\nCaterpillar: Allyson Olivera\nTweedle Dum: Rachel Montoro\nDoormouse: Victoria Gonzalez\nWhite Queen/Rose: Vivian Torres\nChesshire Cat: Jaivaneese Johnson\nEl Conejo Moreno/Humpty: Gabriel De Los Santos\nTweedle Dee: Matthews Segura\nMarch Hare: Max Ramos\nTiger Lily: Evan Torres\nHatter: Arianna Robaina\nBread: Marissa Costa\nTeapot: Vanessa Costa\nTable: Ana Lujan\nAlfredito: Jarrel Torres\n\nSUMMARY \nWhen Alicia is sent to her room for misbehaving\, she’s convinced that her parents have no idea who she really is. She confides in her beloved hamster Alfredito\, who suddenly escapes through a hole in the wall\, and miraculously\, Alicia is able to follow him all the way into Wonderlandia. On her journey through this topsy-turvy world she meets all sorts of fantastic characters\, negotiating strange situations before finally returning to her room a little wiser. \nAlicia is presented by special arrangement by Playscripts\, Inc. \n  \nTickets: $15 Adults | $12 Students/Seniors \nTickets may also be available at the door. \n\n    Buy Tickets\n  \nCOVID-19 Guidelines: West Hudson Arts & Theater Company follows all current state and federal health guidelines. All audience members will be required to wear masks as well as any unvaccinated cast members\, stage crew and volunteers.
URL:https://whatconj.org/event/alicia/2021-10-16/
LOCATION:East Newark Recreation Center (behind Tops Diner)\, 44 Central Avenue\, East Newark\, NJ\, 07029\, United States
CATEGORIES:Youth Stage
ATTACH;FMTTYPE=image/png:https://whatconj.org/wp-content/uploads/2021/07/ALICIA-HEADER.png
END:VEVENT
BEGIN:VEVENT
DTSTART;TZID=America/New_York:20211016T140000
DTEND;TZID=America/New_York:20211016T160000
DTSTAMP:20260421T142210
CREATED:20221216T142254Z
LAST-MODIFIED:20221216T142254Z
UID:10000044-1634392800-1634400000@whatconj.org
SUMMARY:ALICIA
DESCRIPTION:West Hudson Arts & Theater Company kicks off its Youth Stage series of family-friendly theatrical events with Alicia\, a bilingual adaptation of Alice’s Adventures in Wonderland written by Elaine Romero. Directed by Milagros “Milly” Gonzalez. \nThis production contains dialogue in both Spanish and English. Facemasks will be required for all audience members at all performances. \nCAST \n\nAlicia: Alejandra Castro\nMother: Ana Lujan\nCaterpillar: Allyson Olivera\nTweedle Dum: Rachel Montoro\nDoormouse: Victoria Gonzalez\nWhite Queen/Rose: Vivian Torres\nChesshire Cat: Jaivaneese Johnson\nEl Conejo Moreno/Humpty: Gabriel De Los Santos\nTweedle Dee: Matthews Segura\nMarch Hare: Max Ramos\nTiger Lily: Evan Torres\nHatter: Arianna Robaina\nBread: Marissa Costa\nTeapot: Vanessa Costa\nTable: Ana Lujan\nAlfredito: Jarrel Torres\n\nSUMMARY \nWhen Alicia is sent to her room for misbehaving\, she’s convinced that her parents have no idea who she really is. She confides in her beloved hamster Alfredito\, who suddenly escapes through a hole in the wall\, and miraculously\, Alicia is able to follow him all the way into Wonderlandia. On her journey through this topsy-turvy world she meets all sorts of fantastic characters\, negotiating strange situations before finally returning to her room a little wiser. \nAlicia is presented by special arrangement by Playscripts\, Inc. \n  \nTickets: $15 Adults | $12 Students/Seniors \nTickets may also be available at the door. \n\n    Buy Tickets\n  \nCOVID-19 Guidelines: West Hudson Arts & Theater Company follows all current state and federal health guidelines. All audience members will be required to wear masks as well as any unvaccinated cast members\, stage crew and volunteers.
URL:https://whatconj.org/event/alicia/2021-10-16/
LOCATION:East Newark Recreation Center (behind Tops Diner)\, 44 Central Avenue\, East Newark\, NJ\, 07029\, United States
CATEGORIES:Youth Stage
ATTACH;FMTTYPE=image/png:https://whatconj.org/wp-content/uploads/2021/07/ALICIA-HEADER.png
END:VEVENT
BEGIN:VEVENT
DTSTART;TZID=America/New_York:20211015T193000
DTEND;TZID=America/New_York:20211015T223000
DTSTAMP:20260421T142210
CREATED:20210712T164755Z
LAST-MODIFIED:20211010T192135Z
UID:10000040-1634326200-1634337000@whatconj.org
SUMMARY:ALICIA
DESCRIPTION:West Hudson Arts & Theater Company kicks off its Youth Stage series of family-friendly theatrical events with Alicia\, a bilingual adaptation of Alice’s Adventures in Wonderland written by Elaine Romero. Directed by Milagros “Milly” Gonzalez. \nThis production contains dialogue in both Spanish and English. Facemasks will be required for all audience members at all performances. \nCAST \n\nAlicia: Alejandra Castro\nMother: Ana Lujan\nCaterpillar: Allyson Olivera\nTweedle Dum: Rachel Montoro\nDoormouse: Victoria Gonzalez\nWhite Queen/Rose: Vivian Torres\nChesshire Cat: Jaivaneese Johnson\nEl Conejo Moreno/Humpty: Gabriel De Los Santos\nTweedle Dee: Matthews Segura\nMarch Hare: Max Ramos\nTiger Lily: Evan Torres\nHatter: Arianna Robaina\nBread: Marissa Costa\nTeapot: Vanessa Costa\nTable: Ana Lujan\nAlfredito: Jarrel Torres\n\nSUMMARY \nWhen Alicia is sent to her room for misbehaving\, she’s convinced that her parents have no idea who she really is. She confides in her beloved hamster Alfredito\, who suddenly escapes through a hole in the wall\, and miraculously\, Alicia is able to follow him all the way into Wonderlandia. On her journey through this topsy-turvy world she meets all sorts of fantastic characters\, negotiating strange situations before finally returning to her room a little wiser. \nAlicia is presented by special arrangement by Playscripts\, Inc. \n  \nTickets: $15 Adults | $12 Students/Seniors \nTickets may also be available at the door. \n\n    Buy Tickets\n  \nCOVID-19 Guidelines: West Hudson Arts & Theater Company follows all current state and federal health guidelines. All audience members will be required to wear masks as well as any unvaccinated cast members\, stage crew and volunteers.
URL:https://whatconj.org/event/alicia/2021-10-15/
LOCATION:East Newark Recreation Center (behind Tops Diner)\, 44 Central Avenue\, East Newark\, NJ\, 07029\, United States
CATEGORIES:Youth Stage
ATTACH;FMTTYPE=image/png:https://whatconj.org/wp-content/uploads/2021/07/ALICIA-HEADER.png
END:VEVENT
END:VCALENDAR