BEGIN:VCALENDAR
VERSION:2.0
PRODID:-//West Hudson Arts &amp; Theater Company - ECPv6.14.0//NONSGML v1.0//EN
CALSCALE:GREGORIAN
METHOD:PUBLISH
X-ORIGINAL-URL:https://whatconj.org
X-WR-CALDESC:Events for West Hudson Arts &amp; Theater Company
REFRESH-INTERVAL;VALUE=DURATION:PT1H
X-Robots-Tag:noindex
X-PUBLISHED-TTL:PT1H
BEGIN:VTIMEZONE
TZID:America/New_York
BEGIN:DAYLIGHT
TZOFFSETFROM:-0500
TZOFFSETTO:-0400
TZNAME:EDT
DTSTART:20240310T070000
END:DAYLIGHT
BEGIN:STANDARD
TZOFFSETFROM:-0400
TZOFFSETTO:-0500
TZNAME:EST
DTSTART:20241103T060000
END:STANDARD
END:VTIMEZONE
BEGIN:VEVENT
DTSTART;TZID=America/New_York:20241207T193000
DTEND;TZID=America/New_York:20241207T220000
DTSTAMP:20260421T153853
CREATED:20241029T234238Z
LAST-MODIFIED:20241030T000718Z
UID:10000563-1733599800-1733608800@whatconj.org
SUMMARY:Love and Communication
DESCRIPTION:West Hudson Arts & Theater is excited to announce our first production of the 2024-25 Season! WHATCo’s River’s Edge Stage presents Love and Communication\, a staged reading of the play by New Jersey playwright James Christy Jr.\, directed by Joseph Jones. \nSummary: A young couple with conflicting points of view about how to treat their son’s autism use desperate means to do what they think is best for their child. This emotional staged reading will be followed by a “talk back” session with James Christy Jr.\, the cast\, and other advocates about the impact of autism diagnosis on families. \nProduction Dates: December 6 & 7\, 2024 @ 7:30 pm \n\nVenue: Arlington Players Club\, 12 Washington Place\, Kearny 07032\n\nTickets: $20 Adults | $15 Seniors/Students \n\n    Buy Tickets\n  \nWhat is WHATCo’s River’s Edge Stage? Our River’s Edge Stage will present thought-provoking productions selected to engage and challenge audiences by tackling cutting-edge topics and issues. Each performance will be followed by a “Talk Back” session that will invite the audience\, actors\, and production staff to participate in an insightful discussion about each piece. These productions are for mature audiences. \nCast: \n 
URL:https://whatconj.org/event/love-and-communication/2024-12-07/
LOCATION:Arlington Players Club\, 12 Washington Place\, Kearny\, NJ\, 07032\, United States
CATEGORIES:Featured,Productions,River's Edge Stage
ATTACH;FMTTYPE=image/jpeg:https://whatconj.org/wp-content/uploads/2024/10/LC.jpg
END:VEVENT
BEGIN:VEVENT
DTSTART;TZID=America/New_York:20241206T193000
DTEND;TZID=America/New_York:20241206T220000
DTSTAMP:20260421T153853
CREATED:20241029T234238Z
LAST-MODIFIED:20241030T000718Z
UID:10000562-1733513400-1733522400@whatconj.org
SUMMARY:Love and Communication
DESCRIPTION:West Hudson Arts & Theater is excited to announce our first production of the 2024-25 Season! WHATCo’s River’s Edge Stage presents Love and Communication\, a staged reading of the play by New Jersey playwright James Christy Jr.\, directed by Joseph Jones. \nSummary: A young couple with conflicting points of view about how to treat their son’s autism use desperate means to do what they think is best for their child. This emotional staged reading will be followed by a “talk back” session with James Christy Jr.\, the cast\, and other advocates about the impact of autism diagnosis on families. \nProduction Dates: December 6 & 7\, 2024 @ 7:30 pm \n\nVenue: Arlington Players Club\, 12 Washington Place\, Kearny 07032\n\nTickets: $20 Adults | $15 Seniors/Students \n\n    Buy Tickets\n  \nWhat is WHATCo’s River’s Edge Stage? Our River’s Edge Stage will present thought-provoking productions selected to engage and challenge audiences by tackling cutting-edge topics and issues. Each performance will be followed by a “Talk Back” session that will invite the audience\, actors\, and production staff to participate in an insightful discussion about each piece. These productions are for mature audiences. \nCast: \n 
URL:https://whatconj.org/event/love-and-communication/2024-12-06/
LOCATION:Arlington Players Club\, 12 Washington Place\, Kearny\, NJ\, 07032\, United States
CATEGORIES:Featured,Productions,River's Edge Stage
ATTACH;FMTTYPE=image/jpeg:https://whatconj.org/wp-content/uploads/2024/10/LC.jpg
END:VEVENT
END:VCALENDAR