BEGIN:VCALENDAR
VERSION:2.0
PRODID:-//West Hudson Arts &amp; Theater Company - ECPv6.14.0//NONSGML v1.0//EN
CALSCALE:GREGORIAN
METHOD:PUBLISH
X-ORIGINAL-URL:https://whatconj.org
X-WR-CALDESC:Events for West Hudson Arts &amp; Theater Company
REFRESH-INTERVAL;VALUE=DURATION:PT1H
X-Robots-Tag:noindex
X-PUBLISHED-TTL:PT1H
BEGIN:VTIMEZONE
TZID:America/New_York
BEGIN:DAYLIGHT
TZOFFSETFROM:-0500
TZOFFSETTO:-0400
TZNAME:EDT
DTSTART:20200308T070000
END:DAYLIGHT
BEGIN:STANDARD
TZOFFSETFROM:-0400
TZOFFSETTO:-0500
TZNAME:EST
DTSTART:20201101T060000
END:STANDARD
BEGIN:DAYLIGHT
TZOFFSETFROM:-0500
TZOFFSETTO:-0400
TZNAME:EDT
DTSTART:20210314T070000
END:DAYLIGHT
BEGIN:STANDARD
TZOFFSETFROM:-0400
TZOFFSETTO:-0500
TZNAME:EST
DTSTART:20211107T060000
END:STANDARD
BEGIN:DAYLIGHT
TZOFFSETFROM:-0500
TZOFFSETTO:-0400
TZNAME:EDT
DTSTART:20220313T070000
END:DAYLIGHT
BEGIN:STANDARD
TZOFFSETFROM:-0400
TZOFFSETTO:-0500
TZNAME:EST
DTSTART:20221106T060000
END:STANDARD
BEGIN:DAYLIGHT
TZOFFSETFROM:-0500
TZOFFSETTO:-0400
TZNAME:EDT
DTSTART:20230312T070000
END:DAYLIGHT
BEGIN:STANDARD
TZOFFSETFROM:-0400
TZOFFSETTO:-0500
TZNAME:EST
DTSTART:20231105T060000
END:STANDARD
BEGIN:DAYLIGHT
TZOFFSETFROM:-0500
TZOFFSETTO:-0400
TZNAME:EDT
DTSTART:20240310T070000
END:DAYLIGHT
BEGIN:STANDARD
TZOFFSETFROM:-0400
TZOFFSETTO:-0500
TZNAME:EST
DTSTART:20241103T060000
END:STANDARD
BEGIN:DAYLIGHT
TZOFFSETFROM:-0500
TZOFFSETTO:-0400
TZNAME:EDT
DTSTART:20250309T070000
END:DAYLIGHT
BEGIN:STANDARD
TZOFFSETFROM:-0400
TZOFFSETTO:-0500
TZNAME:EST
DTSTART:20251102T060000
END:STANDARD
END:VTIMEZONE
BEGIN:VEVENT
DTSTART;TZID=America/New_York:20250723T193000
DTEND;TZID=America/New_York:20250723T213000
DTSTAMP:20260421T125159
CREATED:20250630T182540Z
LAST-MODIFIED:20250710T131322Z
UID:10000595-1753299000-1753306200@whatconj.org
SUMMARY:Shakespeare in the Park - The Tempest
DESCRIPTION:West Hudson Arts & Theater is excited to announce our 2025 Shakespeare in the Park production The Tempest\, directed by Matt Masiello. \nSummary: Magic\, betrayal\, and romance collide in Shakespeare’s enchanting masterpiece\, The Tempest. A duke’s revenge sets in motion a chain of events that will test the limits of human nature on a fantastic island of spirits and wonders. \nBring your picnic\, chair or blanket\, and family for a truly magical evening! \n  \nProduction Dates \nWednesday Performances:\n\nJuly 9 @ 7:30 pm at Hackensack Performing Arts Center (HACPAC) Atlantic Street Park (102 State Street\, Hackensack)\nJuly 16 @ 7:30 pm at Hackensack Performing Arts Center (HACPAC) Atlantic Street Park (102 State Street\, Hackensack)\nJuly 23 @ 7:30 pm at Hackensack Performing Arts Center (HACPAC) Atlantic Street Park (102 State Street\, Hackensack)\n\nThe HACPAC performances are presented in partnership with the Hackensack Performing Arts Center’s Summer Shakespeare in the Park Series. For information about this venue and parking\, visit https://hacpac.org/upcoming-events/ \n  \n\n\n\nWest Hudson Performances: \n\nSaturday\, July 12 @ 7:00 pm in Kearny’s Arlington Depot Park (Garofalo Place between Elm & Forest Streets\, Kearny)\nSunday\, July 20 @ 6:00 pm in East Newark’s Riverfront Park (1 Central Avenue\, East Newark)\n\nThe West Hudson performances are made possible by a grant from the New Jersey State Council on the Arts\, a division of the Department of State\, and administered by the Hudson County Office of Cultural & Heritage Affairs/Tourism Development\, Craig Guy\, Hudson County Executive & the Hudson County Board of County Commissioners. \n\n\n  \n  \n  \n  \n  \nTickets: Free Admission (donations accepted) \n  \nCAST: \n\nProspero – Christopher Tully\nAriel – Scout Graham\nCaliban – Joseph Jones\nMiranda – Jackie Wilberton\nFerdinand – Tom Murtagh\nStephanie – Jessica Jones\nTrinculo – Dylan Catania\nGonzala – Amanda Regan\nSabrina – Tess Nunan\nAntonio – Carlos Caban De Jesus\nAlonso – John Jesse Jeffords\nEnsemble and Understudies: Maggie Madere\, Darell A. Richardson\, Tate Olitt\, Sara Bergin\, Ash Nichols\, Amanda Castro-Conroy\,  Anthony Cornatzer\n\n  \nCREATIVE: \n\n\nDirector – Matthew Masiello\nProducer – Amanda Castro-Conroy & Brandi-Leigh Miller\nStage Manager – Emily Schepker\nAssistant Stage Managers – Chelsea Lennon & Nilanthi Sangarabalan\nInclusion Coordinator – Joseph Jones\nCostume Designer – Samantha Egge\nCostume Assistant – Marilyn Gates\nSet design and construction – Mike Raysor\nProperties – Ash Nichols\nOriginal Score Composer – Alexander Matthew\nScript Consultants – Elizabeth Meisenzal & Emily Schepker\nProduction Assistant – Arian Bairami\nSocial Media – Mike Raysor & Michelle Almeida\nPublicity – Linda Kraus D’Isa\n\nWith special thanks to our community partner\, Spanish Pavillion Restaurant for providing the audition and rehearsal space for this production.
URL:https://whatconj.org/event/thetempest/2025-07-23/
LOCATION:Hackensack Performing Arts Center (HACPAC)\, 102 State Street\, Hackensack\, NJ\, 07601\, United States
CATEGORIES:Featured,Productions,Special Productions,Summer Stage
ATTACH;FMTTYPE=image/png:https://whatconj.org/wp-content/uploads/2025/06/The-Tempest-Web.png
END:VEVENT
BEGIN:VEVENT
DTSTART;TZID=America/New_York:20250712T190000
DTEND;TZID=America/New_York:20250712T210000
DTSTAMP:20260421T125159
CREATED:20250701T192937Z
LAST-MODIFIED:20250712T112811Z
UID:10000591-1752346800-1752354000@whatconj.org
SUMMARY:Shakespeare in the Park - The Tempest
DESCRIPTION:West Hudson Arts & Theater is excited to announce our 2025 Shakespeare in the Park production The Tempest\, directed by Matt Masiello. \nSummary: Magic\, betrayal\, and romance collide in Shakespeare’s enchanting masterpiece\, The Tempest. A duke’s revenge sets in motion a chain of events that will test the limits of human nature on a fantastic island of spirits and wonders. \nBring your picnic\, chair or blanket\, and family for a truly magical evening! \n  \nProduction Dates \nWednesday Performances:\n\nJuly 9 @ 7:30 pm at Hackensack Performing Arts Center (HACPAC) Atlantic Street Park (102 State Street\, Hackensack)\nJuly 16 @ 7:30 pm at Hackensack Performing Arts Center (HACPAC) Atlantic Street Park (102 State Street\, Hackensack)\nJuly 23 @ 7:30 pm at Hackensack Performing Arts Center (HACPAC) Atlantic Street Park (102 State Street\, Hackensack)\n\nThe HACPAC performances are presented in partnership with the Hackensack Performing Arts Center’s Summer Shakespeare in the Park Series. For information about this venue and parking\, visit https://hacpac.org/upcoming-events/ \n  \n\n\n\nWest Hudson Performances: \n\nSaturday\, July 12 @ 7:00 pm in Kearny’s Arlington Depot Park (Garofalo Place between Elm & Forest Streets\, Kearny)\nSunday\, July 20 @ 6:00 pm in East Newark’s Riverfront Park (1 Central Avenue\, East Newark)\n\nThe West Hudson performances are made possible by a grant from the New Jersey State Council on the Arts\, a division of the Department of State\, and administered by the Hudson County Office of Cultural & Heritage Affairs/Tourism Development\, Craig Guy\, Hudson County Executive & the Hudson County Board of County Commissioners. \n\n\n  \n  \n  \n  \n  \nTickets: Free Admission (donations accepted) \n  \nCAST: \n\nProspero – Christopher Tully\nAriel – Scout Graham\nCaliban – Joseph Jones\nMiranda – Jackie Wilberton\nFerdinand – Tom Murtagh\nStephanie – Jessica Jones\nTrinculo – Dylan Catania\nGonzala – Amanda Regan\nSabrina – Tess Nunan\nAntonio – Carlos Caban De Jesus\nAlonso – John Jesse Jeffords\nEnsemble and Understudies: Maggie Madere\, Darell A. Richardson\, Tate Olitt\, Sara Bergin\, Ash Nichols\, Amanda Castro-Conroy\,  Anthony Cornatzer\n\n  \nCREATIVE: \n\n\nDirector – Matthew Masiello\nProducer – Amanda Castro-Conroy & Brandi-Leigh Miller\nStage Manager – Emily Schepker\nAssistant Stage Managers – Chelsea Lennon & Nilanthi Sangarabalan\nInclusion Coordinator – Joseph Jones\nCostume Designer – Samantha Egge\nCostume Assistant – Marilyn Gates\nSet design and construction – Mike Raysor\nProperties – Ash Nichols\nOriginal Score Composer – Alexander Matthew\nScript Consultants – Elizabeth Meisenzal & Emily Schepker\nProduction Assistant – Arian Bairami\nSocial Media – Mike Raysor & Michelle Almeida\nPublicity – Linda Kraus D’Isa\n\nWith special thanks to our community partner\, Spanish Pavillion Restaurant for providing the audition and rehearsal space for this production.
URL:https://whatconj.org/event/thetempest-2/
LOCATION:Arlington Depot Park\, Between Elm and Forest Streets\, Kearny\, NJ\, 07032\, United States
CATEGORIES:Featured,Productions,Special Productions,Summer Stage
ATTACH;FMTTYPE=image/png:https://whatconj.org/wp-content/uploads/2025/06/Tempest-Final-Flyer-8.png
END:VEVENT
BEGIN:VEVENT
DTSTART;TZID=America/New_York:20240728T190000
DTEND;TZID=America/New_York:20240728T213000
DTSTAMP:20260421T125159
CREATED:20240703T194800Z
LAST-MODIFIED:20240715T144912Z
UID:10000561-1722193200-1722202200@whatconj.org
SUMMARY:Shakespeare in the Park - Twelfth Night
DESCRIPTION:West Hudson Arts & Theater is excited to announce our 2024 Shakespeare in the Park production Twelfth Night\, directed by Matt Masiello. \nSummary: A tale of mistaken identity leads to confusion\, trickery\, and unrequited love. This popular Shakespeare comedy promises hilarious hijinks that lead to a happy ending for all. \nProduction Date: \nJuly 28 @ 7:00 pm at Arlington Depot Park \n\nVenue: Arlington Depot Park: Garofalo Place between Elm and Forest Streets\, Kearny 07032\n\nTickets: Free Admission \nPre-order your picnic from a participating local business! Visit whatconj.org/kearnypicnics for more information. \n  \nDirector: Matt Masiello \nStage Manager: Emily Schepker \nCostuming: Samantha Egge\, Lily Mayo \nProducer: Amanda Castro-Conroy \nMusical Direction: Gunnar Holmberg \nSound Design: Jim Miller \n\n\nCAST\n\nViola: Grace Ahlin\nOlivia: Samantha Egge\nMaria: Holly Stefanik\nSir Toby Belch: John Jesse Jeffords\nSir Andrew Aguecheek: Gunnar Holmberg\nMalvolio: Christopher Tully\nFeste: Jackie Wilberton\nOrsino: Frankie Perez\nSebastian: James Phillips\nAntonio: Joseph Jones\nCurio/ensemble: Scout Graham\nValentine/ensemble: Jenny DeCelles\nSea Captain/ensemble: Joe Turner\n1st officer/ensemble: Lillian Mayo\n2nd officer/ensemble: Melissa Ramirez
URL:https://whatconj.org/event/shakespeare-in-the-park-twelfth-night-2/
LOCATION:Arlington Depot Park\, Between Elm and Forest Streets\, Kearny\, NJ\, 07032\, United States
CATEGORIES:Featured,Main Stage,Productions,Special Productions,Summer Stage
END:VEVENT
BEGIN:VEVENT
DTSTART;TZID=America/New_York:20231029T140000
DTEND;TZID=America/New_York:20231029T163000
DTSTAMP:20260421T125159
CREATED:20231017T215705Z
LAST-MODIFIED:20231017T215705Z
UID:10000533-1698588000-1698597000@whatconj.org
SUMMARY:WhatCo Volunteers: Kearny Halloween Parade
DESCRIPTION:Volunteer with WhatCo at the Annual Kearny Halloween Parade! \n🎃 TOWN OF KEARNY HALLOWEEN PARADE 🎃 \nSave the Date! Sunday\, October 29\, 2023 \nJoin us as the Mayor\, Town Council\, Kearny Recreation Commission\, and Recreation Department host the annual Halloween parade. \n👻 Parade Details: \n\nStart time: 2:00pm\nStarting point: Kearny Avenue and Woodland Avenue\nRoute: Proceeding north along Kearny Avenue to Quincy Avenue.
URL:https://whatconj.org/event/whatco-volunteers-kearny-halloween-parade/
LOCATION:Arlington Depot Park\, Between Elm and Forest Streets\, Kearny\, NJ\, 07032\, United States
CATEGORIES:Volunteer and Community Days
ATTACH;FMTTYPE=image/png:https://whatconj.org/wp-content/uploads/2023/10/Halloween-Parade-Instagram.png
END:VEVENT
BEGIN:VEVENT
DTSTART;TZID=America/New_York:20231028T113000
DTEND;TZID=America/New_York:20231028T140000
DTSTAMP:20260421T125159
CREATED:20230925T155141Z
LAST-MODIFIED:20230925T161537Z
UID:10000530-1698492600-1698501600@whatconj.org
SUMMARY:WhatCo Volunteers: Kearny PAWrade
DESCRIPTION:Volunteer with WhatCo at the Annual Kearny Dog PAWrade! \nKearny Halloween Dog PAWrade \n \n \n 
URL:https://whatconj.org/event/whatco-volunteers-kearny-pawrade/
LOCATION:Arlington Depot Park\, Between Elm and Forest Streets\, Kearny\, NJ\, 07032\, United States
CATEGORIES:Volunteer and Community Days
ATTACH;FMTTYPE=image/png:https://whatconj.org/wp-content/uploads/2023/09/Screenshot-2023-09-22-at-3.15.56 PM-1605x2048-1.png
END:VEVENT
BEGIN:VEVENT
DTSTART;TZID=America/New_York:20210301T190000
DTEND;TZID=America/New_York:20210301T213000
DTSTAMP:20260421T125159
CREATED:20210203T183348Z
LAST-MODIFIED:20210203T190453Z
UID:10000050-1614625200-1614634200@whatconj.org
SUMMARY:Vintage Hitchcock - A Radio Play
DESCRIPTION:Thank you for your support. For more information\, contact tickets@whatco.org\n\n\n\n\n\nBring your own blanket\, lawn chairs and picnic. Enjoy an evening of theater under the stars with spooky stories from the master of suspense!\n\n\n\n\n\nAbout this Event\n\n\nWest Hudson Arts & Theater Company proudly presents – Vintage Hitchcock – A Live Radio Play by Joe Landry. Directed by Michael Haefner and Brandi-Leigh Miller. \nShow date is October 24 at 7:00 pm in Arlington Depot Park (between Elm & Forest Streets\, Kearny). \nVintage Hitchcock – A Live Radio Play is the brain child of Joe Landry\, who also wrote It’s A Wonderful Life\, A Radio Play. The entire show is performed as a 1940’s live radio broadcast complete with live Jingles\, an Announcer and two Foley Artists creating the sound effects. The cast of fourteen actors play over 60 different characters\, so each of the actors will play multiple roles and will be creating many of the sound effects in the show. \nThe play is derived from three early Hitchcock films. The first\, The Lodger\, is a tale from turn of the century London\, where a poor couple finds a Lodger to rent their spare room so their daughter can return home. Too late the mother suspects the Lodger may be the serial killer known as the Avenger. Can she save her daughter in time? There is only one way to find out. \nThe second story of the trio is Sabotage. This is a nice warm tale of International Intrigue. We meet Anton Verloc\, his wife Winnie and her brother Stevie. Anton owns a cinema but performs sabotage as a foreign agent on the side. As a result of his actions a lot of people die\, including two out of three of the family members. \nThe final tale is called The 39 Steps. This is the story of an intrepid Canadian named Richard Hannay\, who gets himself mixed up in murder\, mayhem and international plots. The only way for him to clear his name and avoid jail\, is to go on the run across the English and Scottish countryside trying to solve the mystery\, and who knows he might find love along the way. \nEach story is more exciting than the last! Don’t miss out on your chance to see\, Vintage Hitchcock – A Live Radio Play!!!
URL:https://whatconj.org/event/vintage-hitchcock-a-radio-play/
LOCATION:Arlington Depot Park\, Between Elm and Forest Streets\, Kearny\, NJ\, 07032\, United States
CATEGORIES:Featured,Productions
ATTACH;FMTTYPE=image/jpeg:https://whatconj.org/wp-content/uploads/2021/02/https___cdn.evbuc_.com_images_113347331_480203253379_1_original.jpg
END:VEVENT
BEGIN:VEVENT
DTSTART;TZID=America/New_York:20201024T190000
DTEND;TZID=America/New_York:20201024T213000
DTSTAMP:20260421T125159
CREATED:20210204T050400Z
LAST-MODIFIED:20210204T050400Z
UID:10000051-1603566000-1603575000@whatconj.org
SUMMARY:Vintage Hitchcock - A Radio Play
DESCRIPTION:Bring your own blanket\, lawn chairs and picnic. Enjoy an evening of theater under the stars with spooky stories from the master of suspense!\n\n\nWest Hudson Arts & Theater Company proudly presents – Vintage Hitchcock – A Live Radio Play by Joe Landry. Directed by Michael Haefner and Brandi-Leigh Miller.  \nShow date is October 24 at 7:00 pm in Arlington Depot Park (between Elm & Forest Streets\, Kearny). \nVintage Hitchcock  – A Live Radio Play is the brain child of  Joe Landry\, who also wrote It’s A Wonderful Life\, A Radio Play.  The entire show is performed as a 1940’s live radio broadcast complete with live Jingles\, an Announcer and two Foley Artists creating the sound effects.  The cast of fourteen actors play over 60 different characters\, so each of the actors will play multiple roles and will be creating many of the sound effects in the show. \nThe play is derived from three early Hitchcock films.  The first\, The Lodger\,  is a tale from turn of the century London\, where a poor couple finds a Lodger to rent their spare room so their daughter can return home.  Too  late the mother suspects the Lodger may be the serial killer known as the Avenger.  Can she save her daughter in time?  There is only one way to find out.\n \nThe second story of the trio is Sabotage.  This is a nice warm tale of International Intrigue.  We meet Anton Verloc\, his wife Winnie and her brother Stevie.  Anton owns a cinema but performs sabotage as a foreign agent on the side.  As a result of his actions a lot of people die\, including two out of three of the family members.\n \nThe final tale is called The 39 Steps.   This is the story of an intrepid Canadian named Richard Hannay\, who gets himself mixed up in murder\, mayhem and international plots.  The only way for him to clear his name and avoid jail\, is to go on the run across the English and Scottish countryside trying to solve the mystery\, and who knows he might find love along the way.\n \nEach story is more exciting than the last!  Don’t miss out on your chance to see\, Vintage Hitchcock – A Live Radio Play!!!
URL:https://whatconj.org/event/vintage-hitchcock-a-radio-play-2/
LOCATION:Arlington Depot Park\, Between Elm and Forest Streets\, Kearny\, NJ\, 07032\, United States
END:VEVENT
END:VCALENDAR